BEGIN:VCALENDAR
VERSION:2.0
PRODID:-//hacksw/handcal//NONSGML v1.0//EN
CALSCALE:GREGORIAN
BEGIN:VEVENT
UID:69e6115df34ba
DTSTART:20210427T193000Z
DTSTAMP:20260420T114325Z
DTEND:20210428T193000Z
LOCATION:Online
DESCRIPTION:Nano Tenchnology Event
URL;VALUE=URI:https://nanocongress.nanotechconferences.org/
SUMMARY:33rd Nano Congress for Future Advancements
END:VEVENT
END:VCALENDAR
