BEGIN:VCALENDAR
VERSION:2.0
PRODID:-//hacksw/handcal//NONSGML v1.0//EN
CALSCALE:GREGORIAN
BEGIN:VEVENT
UID:69e611a6e56eb
DTSTART:20210325T193000Z
DTSTAMP:20260420T114438Z
DTEND:20210326T193000Z
LOCATION:Online
DESCRIPTION:Nano Tenchnology Event
URL;VALUE=URI:https://nanomaterials.insightconferences.com/
SUMMARY:34th International Conference on  Nanomaterials and Nanotechn
 nology
END:VEVENT
END:VCALENDAR
