BEGIN:VCALENDAR
VERSION:2.0
PRODID:-//hacksw/handcal//NONSGML v1.0//EN
CALSCALE:GREGORIAN
BEGIN:VEVENT
UID:69e611e102f42
DTSTART:20210225T203000Z
DTSTAMP:20260420T114537Z
DTEND:20210225T203000Z
LOCATION:Online
DESCRIPTION:Nano Tenchnology Event
URL;VALUE=URI:https://nanomaterials.nanotechconferences.org/
SUMMARY:29th International Conference on  Nanomedicine and Nanomateri
 ials
END:VEVENT
END:VCALENDAR
