BEGIN:VCALENDAR
VERSION:2.0
PRODID:-//hacksw/handcal//NONSGML v1.0//EN
CALSCALE:GREGORIAN
BEGIN:VEVENT
UID:69e611a653a80
DTSTART:20210221T203000Z
DTSTAMP:20260420T114438Z
DTEND:20210222T203000Z
LOCATION:Online
DESCRIPTION:Nano Tenchnology Event
URL;VALUE=URI:https://nanoscience.nanotechconferences.org/
SUMMARY:5th Annual Meet on  Nanoscience and Nanotechnology
END:VEVENT
END:VCALENDAR
