BEGIN:VCALENDAR
VERSION:2.0
PRODID:-//hacksw/handcal//NONSGML v1.0//EN
CALSCALE:GREGORIAN
BEGIN:VEVENT
UID:69e61173d7336
DTSTART:20201130T203000Z
DTSTAMP:20260420T114347Z
DTEND:20201201T203000Z
LOCATION:Online
DESCRIPTION:Nano Tenchnology Event
URL;VALUE=URI:https://nano-medicine.pharmaceuticalconferences.com/
SUMMARY:International Conference on  Nanomedicine and Drug Delivery
END:VEVENT
END:VCALENDAR
