BEGIN:VCALENDAR
VERSION:2.0
PRODID:-//hacksw/handcal//NONSGML v1.0//EN
CALSCALE:GREGORIAN
BEGIN:VEVENT
UID:69e8ae5863b6a
DTSTART:20210906T193000Z
DTSTAMP:20260422T111744Z
DTEND:20210907T193000Z
LOCATION:Online
DESCRIPTION:Nano Tenchnology Event
URL;VALUE=URI:https://world.nanotechconferences.org/
SUMMARY:World Congress on  Advanced Nano Research and Nano Tech Appli
 ications
END:VEVENT
END:VCALENDAR
