BEGIN:VCALENDAR
VERSION:2.0
PRODID:-//hacksw/handcal//NONSGML v1.0//EN
CALSCALE:GREGORIAN
BEGIN:VEVENT
UID:69e6115e6a5cf
DTSTART:20210505T193000Z
DTSTAMP:20260420T114326Z
DTEND:20210506T193000Z
LOCATION:Online
DESCRIPTION:Nano Tenchnology Event
URL;VALUE=URI:https://advancedmaterials.annualcongress.com/
SUMMARY:10th Annual Congress on  Advanced Materials and Nano Science
END:VEVENT
END:VCALENDAR
