BEGIN:VCALENDAR
VERSION:2.0
PRODID:-//hacksw/handcal//NONSGML v1.0//EN
CALSCALE:GREGORIAN
BEGIN:VEVENT
UID:69e611b1cbc9a
DTSTART:20210524T193000Z
DTSTAMP:20260420T114449Z
DTEND:20210525T193000Z
LOCATION:Online
DESCRIPTION:Nano Tenchnology Event
URL;VALUE=URI:https://materialsscience.conferenceseries.com/asia-paci
 ific/
SUMMARY:19th International Conference and Exhibition on  Materials Sc
 cience and Engineering
END:VEVENT
END:VCALENDAR
