BEGIN:VCALENDAR
VERSION:2.0
PRODID:-//hacksw/handcal//NONSGML v1.0//EN
CALSCALE:GREGORIAN
BEGIN:VEVENT
UID:69e611a769190
DTSTART:20210516T193000Z
DTSTAMP:20260420T114439Z
DTEND:20210517T193000Z
LOCATION:Sydney
DESCRIPTION:Nano Tenchnology Event
URL;VALUE=URI:https://global.materialsconferences.com/
SUMMARY:World Congress on  Carbon and Advanced Energy Materials
END:VEVENT
END:VCALENDAR
