BEGIN:VCALENDAR
VERSION:2.0
PRODID:-//hacksw/handcal//NONSGML v1.0//EN
CALSCALE:GREGORIAN
BEGIN:VEVENT
UID:69e8ae5964558
DTSTART:20210620T193000Z
DTSTAMP:20260422T111745Z
DTEND:20210621T193000Z
LOCATION:Online
DESCRIPTION:Nano Tenchnology Event
URL;VALUE=URI:https://advancedmaterials.conferenceseries.com/
SUMMARY:27th International Conference on  Advanced Materials\, Nanote
 echnology and Engineering
END:VEVENT
END:VCALENDAR
