BEGIN:VCALENDAR
VERSION:2.0
PRODID:-//hacksw/handcal//NONSGML v1.0//EN
CALSCALE:GREGORIAN
BEGIN:VEVENT
UID:69e6115ea2f7f
DTSTART:20210608T193000Z
DTSTAMP:20260420T114326Z
DTEND:20210609T193000Z
LOCATION:Berlin
DESCRIPTION:Nano Tenchnology Event
URL;VALUE=URI:https://ceramics.insightconferences.com/
SUMMARY:7th International Conference and Expo on  Ceramics and Compos
 site Materials
END:VEVENT
END:VCALENDAR
