BEGIN:VCALENDAR
VERSION:2.0
PRODID:-//hacksw/handcal//NONSGML v1.0//EN
CALSCALE:GREGORIAN
BEGIN:VEVENT
UID:69e8ae68d1b93
DTSTART:20210726T193000Z
DTSTAMP:20260422T111800Z
DTEND:20210726T193000Z
LOCATION:Online
DESCRIPTION:Nano Tenchnology Event
URL;VALUE=URI:https://emergingmaterials.conferenceseries.com/
SUMMARY:World Summit on  Emerging Materials and Nanotechnology
END:VEVENT
END:VCALENDAR
