BEGIN:VCALENDAR
VERSION:2.0
PRODID:-//hacksw/handcal//NONSGML v1.0//EN
CALSCALE:GREGORIAN
BEGIN:VEVENT
UID:69e5fd5f25de7
DTSTART:20210909T193000Z
DTSTAMP:20260420T101807Z
DTEND:20210910T193000Z
LOCATION:Paris
DESCRIPTION:Nano Tenchnology Event
URL;VALUE=URI:https://european.materialsconferences.com/
SUMMARY:5th European Meeting on  Materials Science and Nanotechnology
END:VEVENT
END:VCALENDAR
