BEGIN:VCALENDAR
VERSION:2.0
PRODID:-//hacksw/handcal//NONSGML v1.0//EN
CALSCALE:GREGORIAN
BEGIN:VEVENT
UID:69e8ae6756c63
DTSTART:20210907T193000Z
DTSTAMP:20260422T111759Z
DTEND:20210908T193000Z
LOCATION:Berlin
DESCRIPTION:Nano Tenchnology Event
URL;VALUE=URI:https://emergingmaterials.materialsconferences.com/
SUMMARY:19th International Conference on  Emerging Materials and Nano
 otechnology
END:VEVENT
END:VCALENDAR
