BEGIN:VCALENDAR
VERSION:2.0
PRODID:-//hacksw/handcal//NONSGML v1.0//EN
CALSCALE:GREGORIAN
BEGIN:VEVENT
UID:69e8ae686aae9
DTSTART:20210822T193000Z
DTSTAMP:20260422T111800Z
DTEND:20210823T193000Z
LOCATION:Singapore
DESCRIPTION:Nano Tenchnology Event
URL;VALUE=URI:https://material-science.materialsconferences.com/
SUMMARY:22nd International Conference and Exhibition on  Materials Sc
 cience\, Nanotechnology and Engineering
END:VEVENT
END:VCALENDAR
