BEGIN:VCALENDAR
VERSION:2.0
PRODID:-//hacksw/handcal//NONSGML v1.0//EN
CALSCALE:GREGORIAN
BEGIN:VEVENT
UID:69e8ae66356ac
DTSTART:20210817T193000Z
DTSTAMP:20260422T111758Z
DTEND:20210818T193000Z
LOCATION:Berlin
DESCRIPTION:Nano Tenchnology Event
URL;VALUE=URI:https://materials.materialsconferences.com/
SUMMARY:37th World Congress on  Materials Science and Nanotechnology
END:VEVENT
END:VCALENDAR
