BEGIN:VCALENDAR
VERSION:2.0
PRODID:-//hacksw/handcal//NONSGML v1.0//EN
CALSCALE:GREGORIAN
BEGIN:VEVENT
UID:69e5fd5e263c7
DTSTART:20211003T203000Z
DTSTAMP:20260420T101806Z
DTEND:20211004T203000Z
LOCATION:Budapest
DESCRIPTION:Nano Tenchnology Event
URL;VALUE=URI:https://biomaterials.materialsconferences.com/
SUMMARY:15th Annual Conference on  Stem Cell and Biomaterials
END:VEVENT
END:VCALENDAR
