BEGIN:VCALENDAR
VERSION:2.0
PRODID:-//hacksw/handcal//NONSGML v1.0//EN
CALSCALE:GREGORIAN
BEGIN:VEVENT
UID:69e5fdab00d51
DTSTART:20211109T203000Z
DTSTAMP:20260420T101923Z
DTEND:20211110T203000Z
LOCATION:Dubai
DESCRIPTION:Nano Tenchnology Event
URL;VALUE=URI:https://smartmaterials.materialsconferences.com/
SUMMARY:10th International Conference on  Smart Materials & Nanotechn
 nology
END:VEVENT
END:VCALENDAR
