BEGIN:VCALENDAR
VERSION:2.0
PRODID:-//hacksw/handcal//NONSGML v1.0//EN
CALSCALE:GREGORIAN
BEGIN:VEVENT
UID:69e5fda9ecc73
DTSTART:20211103T203000Z
DTSTAMP:20260420T101921Z
DTEND:20211104T203000Z
LOCATION:Sydney
DESCRIPTION:Nano Tenchnology Event
URL;VALUE=URI:https://materials-nanotechnology.materialsconferences.c
 com/
SUMMARY:International conference on  Material science and Nanotechnol
 logy
END:VEVENT
END:VCALENDAR
