BEGIN:VCALENDAR
VERSION:2.0
PRODID:-//hacksw/handcal//NONSGML v1.0//EN
CALSCALE:GREGORIAN
BEGIN:VEVENT
UID:69e5fd87201a7
DTSTART:20211028T203000Z
DTSTAMP:20260420T101847Z
DTEND:20211029T203000Z
LOCATION:Vancouver
DESCRIPTION:Nano Tenchnology Event
URL;VALUE=URI:https://materialsscience.materialsconferences.com/
SUMMARY:World Congress on  Advanced Materials and Nanotechnology
END:VEVENT
END:VCALENDAR
