BEGIN:VCALENDAR
VERSION:2.0
PRODID:-//hacksw/handcal//NONSGML v1.0//EN
CALSCALE:GREGORIAN
BEGIN:VEVENT
UID:69e5fd861d99c
DTSTART:20211114T203000Z
DTSTAMP:20260420T101846Z
DTEND:20211115T203000Z
LOCATION:Madrid
DESCRIPTION:Nano Tenchnology Event
URL;VALUE=URI:https://europe.materialsconferences.com/
SUMMARY:26th International Conference on  Advanced Materials & Nanote
 echnology
END:VEVENT
END:VCALENDAR
