BEGIN:VCALENDAR
VERSION:2.0
PRODID:-//hacksw/handcal//NONSGML v1.0//EN
CALSCALE:GREGORIAN
BEGIN:VEVENT
UID:69e8ae66d0407
DTSTART:20210727T193000Z
DTSTAMP:20260422T111758Z
DTEND:20210728T193000Z
LOCATION:Online
DESCRIPTION:Nano Tenchnology Event
URL;VALUE=URI:https://nanomedicine.pharmaceuticalconferences.com/usa/
 /abstract-submission.php
SUMMARY:3rd International Conference and Exhibition on Pharmaceutical
 l Nanotechnology and Nanomedicine
END:VEVENT
END:VCALENDAR
