BEGIN:VCALENDAR
VERSION:2.0
PRODID:-//hacksw/handcal//NONSGML v1.0//EN
CALSCALE:GREGORIAN
BEGIN:VEVENT
UID:69e61174e0ea4
DTSTART:20210613T193000Z
DTSTAMP:20260420T114348Z
DTEND:20210614T193000Z
LOCATION:Online
DESCRIPTION:Nano Tenchnology Event
URL;VALUE=URI:https://nanotechnology-materialscience.materialsconfere
 ences.com/
SUMMARY:32nd European Congress on Nanotechnology and Materials Engine
 eering (Nano Mat 2021)
END:VEVENT
END:VCALENDAR
