BEGIN:VCALENDAR
VERSION:2.0
PRODID:-//hacksw/handcal//NONSGML v1.0//EN
CALSCALE:GREGORIAN
BEGIN:VEVENT
UID:69e611a869e16
DTSTART:20210620T193000Z
DTSTAMP:20260420T114440Z
DTEND:20210621T193000Z
LOCATION:Online
DESCRIPTION:Nano Tenchnology Event
URL;VALUE=URI:https://nanosummit.conferenceseries.com/
SUMMARY:38th Global Summit on Nanoscience and Technology(Nano Summit 
  2021)
END:VEVENT
END:VCALENDAR
