BEGIN:VCALENDAR
VERSION:2.0
PRODID:-//hacksw/handcal//NONSGML v1.0//EN
CALSCALE:GREGORIAN
BEGIN:VEVENT
UID:69e8ae66572e6
DTSTART:20210815T193000Z
DTSTAMP:20260422T111758Z
DTEND:20210816T193000Z
LOCATION:Online
DESCRIPTION:Nano Tenchnology Event
URL;VALUE=URI:https://advancednano.nanotechconferences.org/
SUMMARY:37th International Conference on Advanced Nanotechnology
END:VEVENT
END:VCALENDAR
