BEGIN:VCALENDAR
VERSION:2.0
PRODID:-//hacksw/handcal//NONSGML v1.0//EN
CALSCALE:GREGORIAN
BEGIN:VEVENT
UID:69e5fd55515e0
DTSTART:20211005T203000Z
DTSTAMP:20260420T101757Z
DTEND:20211006T203000Z
LOCATION:Barcelona
DESCRIPTION:Nano Tenchnology Event
URL;VALUE=URI:https://foodtechnology.insightconferences.com/
SUMMARY:25th International Conference on  Food Technology & Processin
 ng
END:VEVENT
END:VCALENDAR
