BEGIN:VCALENDAR
VERSION:2.0
PRODID:-//hacksw/handcal//NONSGML v1.0//EN
CALSCALE:GREGORIAN
BEGIN:VEVENT
UID:69e5fd53b25d0
DTSTART:20211017T203000Z
DTSTAMP:20260420T101755Z
DTEND:20211017T203000Z
LOCATION:Online
DESCRIPTION:Nano Tenchnology Event
URL;VALUE=URI:https://cancerscience.cancersummit.org/
SUMMARY:35th International Conference on Cancer Science & Therapy
END:VEVENT
END:VCALENDAR
