BEGIN:VCALENDAR
VERSION:2.0
PRODID:-//hacksw/handcal//NONSGML v1.0//EN
CALSCALE:GREGORIAN
BEGIN:VEVENT
UID:69e5fd5ddcb88
DTSTART:20211024T203000Z
DTSTAMP:20260420T101805Z
DTEND:20211025T203000Z
LOCATION:Zurich
DESCRIPTION:Nano Tenchnology Event
URL;VALUE=URI:https://nano.expertconferences.org/
SUMMARY:32nd World Nano Conference
END:VEVENT
END:VCALENDAR
