BEGIN:VCALENDAR
VERSION:2.0
PRODID:-//hacksw/handcal//NONSGML v1.0//EN
CALSCALE:GREGORIAN
BEGIN:VEVENT
UID:69e5fdaa7a399
DTSTART:20211201T203000Z
DTSTAMP:20260420T101922Z
DTEND:20211202T203000Z
LOCATION:Online
DESCRIPTION:Nano Tenchnology Event
URL;VALUE=URI:https://materialsscience.annualcongress.com/
SUMMARY:5th International Conference on Materials Science and Enginee
 ering
END:VEVENT
END:VCALENDAR
