BEGIN:VCALENDAR
VERSION:2.0
PRODID:-//hacksw/handcal//NONSGML v1.0//EN
CALSCALE:GREGORIAN
BEGIN:VEVENT
UID:69e5fda978b71
DTSTART:20211201T203000Z
DTSTAMP:20260420T101921Z
DTEND:20211202T203000Z
LOCATION:Online
DESCRIPTION:Nano Tenchnology Event
URL;VALUE=URI:https://nanotechnology.annualcongress.com/
SUMMARY:Applied Nanotechnology Summit
END:VEVENT
END:VCALENDAR
