BEGIN:VCALENDAR
VERSION:2.0
PRODID:-//hacksw/handcal//NONSGML v1.0//EN
CALSCALE:GREGORIAN
BEGIN:VEVENT
UID:69e5fe0301e84
DTSTART:20211121T203000Z
DTSTAMP:20260420T102051Z
DTEND:20211122T203000Z
LOCATION:Online
DESCRIPTION:Nano Tenchnology Event
URL;VALUE=URI:https://advancedmaterials.annualcongress.com/
SUMMARY:11th Annual Congress on Advance Materials and Nano Science
END:VEVENT
END:VCALENDAR
