BEGIN:VCALENDAR
VERSION:2.0
PRODID:-//hacksw/handcal//NONSGML v1.0//EN
CALSCALE:GREGORIAN
BEGIN:VEVENT
UID:69e5fdb1c9f93
DTSTART:20211114T203000Z
DTSTAMP:20260420T101929Z
DTEND:20211115T203000Z
LOCATION:Online
DESCRIPTION:Nano Tenchnology Event
URL;VALUE=URI:https://nanoexpo.conferenceseries.com/
SUMMARY:35th International Conference on Nanotechnology & Expo
END:VEVENT
END:VCALENDAR
