BEGIN:VCALENDAR
VERSION:2.0
PRODID:-//hacksw/handcal//NONSGML v1.0//EN
CALSCALE:GREGORIAN
BEGIN:VEVENT
UID:69e5fd51d48f3
DTSTART:20211031T203000Z
DTSTAMP:20260420T101753Z
DTEND:20211101T203000Z
LOCATION:Rome
DESCRIPTION:Nano Tenchnology Event
URL;VALUE=URI:https://nanotechnology.nanotechconferences.org/
SUMMARY:38th Global Nanotechnology Congress
END:VEVENT
END:VCALENDAR
