BEGIN:VCALENDAR
VERSION:2.0
PRODID:-//hacksw/handcal//NONSGML v1.0//EN
CALSCALE:GREGORIAN
BEGIN:VEVENT
UID:69e5fd1c4918e
DTSTART:20211122T203000Z
DTSTAMP:20260420T101700Z
DTEND:20211123T203000Z
LOCATION:Online
DESCRIPTION:Nano Tenchnology Event
URL;VALUE=URI:https://formulations.pharmaceuticalconferences.com/
SUMMARY:17th International Conference on Pharmaceutical Formulations 
  & Drug Delivery
END:VEVENT
END:VCALENDAR
