BEGIN:VCALENDAR
VERSION:2.0
PRODID:-//hacksw/handcal//NONSGML v1.0//EN
CALSCALE:GREGORIAN
BEGIN:VEVENT
UID:69e5fd5fa0a34
DTSTART:20211128T203000Z
DTSTAMP:20260420T101807Z
DTEND:20211129T203000Z
LOCATION:Madrid
DESCRIPTION:Nano Tenchnology Event
URL;VALUE=URI:https://separationtechniques.chemistryconferences.org/
SUMMARY:11th World Conference on Separation Techniques & Formulation 
  Reports
END:VEVENT
END:VCALENDAR
