BEGIN:VCALENDAR
VERSION:2.0
PRODID:-//hacksw/handcal//NONSGML v1.0//EN
CALSCALE:GREGORIAN
BEGIN:VEVENT
UID:69e5fe027de3f
DTSTART:20211130T203000Z
DTSTAMP:20260420T102050Z
DTEND:20211201T203000Z
LOCATION:Kyoto
DESCRIPTION:Nano Tenchnology Event
URL;VALUE=URI:https://drugdiscovery.pharmaceuticalconferences.com/
SUMMARY:36th International Conference on Pharmaceuticals Formulation 
  and Drug Delivery
END:VEVENT
END:VCALENDAR
