BEGIN:VCALENDAR
VERSION:2.0
PRODID:-//hacksw/handcal//NONSGML v1.0//EN
CALSCALE:GREGORIAN
BEGIN:VEVENT
UID:69e5fdf7269ff
DTSTART:20211201T203000Z
DTSTAMP:20260420T102039Z
DTEND:20211202T203000Z
LOCATION:Paris
DESCRIPTION:Nano Tenchnology Event
URL;VALUE=URI:https://bioasia.pharmaceuticalconferences.com/
SUMMARY:International Conference on Bio Pharmaceutics
END:VEVENT
END:VCALENDAR
