BEGIN:VCALENDAR
VERSION:2.0
PRODID:-//hacksw/handcal//NONSGML v1.0//EN
CALSCALE:GREGORIAN
BEGIN:VEVENT
UID:69e5fd5450748
DTSTART:20211206T203000Z
DTSTAMP:20260420T101756Z
DTEND:20211206T203000Z
LOCATION:Online
DESCRIPTION:Nano Tenchnology Event
URL;VALUE=URI:https://pharma.pharmaceuticalconferences.com/
SUMMARY:4th International Pharmacy and Pharmaceutical Conference
END:VEVENT
END:VCALENDAR
