BEGIN:VCALENDAR
VERSION:2.0
PRODID:-//hacksw/handcal//NONSGML v1.0//EN
CALSCALE:GREGORIAN
BEGIN:VEVENT
UID:69e5fd8695489
DTSTART:20211212T203000Z
DTSTAMP:20260420T101846Z
DTEND:20211213T203000Z
LOCATION:London
DESCRIPTION:Nano Tenchnology Event
URL;VALUE=URI:https://pharmaceutics.pharmaceuticalconferences.com/
SUMMARY:Asia Pacific Pharmaceutics & Drug Delivery Congress
END:VEVENT
END:VCALENDAR
