BEGIN:VCALENDAR
VERSION:2.0
PRODID:-//hacksw/handcal//NONSGML v1.0//EN
CALSCALE:GREGORIAN
BEGIN:VEVENT
UID:69e5fd53cf544
DTSTART:20211215T203000Z
DTSTAMP:20260420T101755Z
DTEND:20211216T203000Z
LOCATION:Online
DESCRIPTION:Nano Tenchnology Event
URL;VALUE=URI:https://drug.pharmaceuticalconferences.com/
SUMMARY:7th World Congress on Pharmaceutical Research & Drug Discover
 ry
END:VEVENT
END:VCALENDAR
