BEGIN:VCALENDAR
VERSION:2.0
PRODID:-//hacksw/handcal//NONSGML v1.0//EN
CALSCALE:GREGORIAN
BEGIN:VEVENT
UID:69e5fdf705044
DTSTART:20220220T203000Z
DTSTAMP:20260420T102039Z
DTEND:20220221T203000Z
LOCATION:Paris
DESCRIPTION:Nano Tenchnology Event
URL;VALUE=URI:https://drugdiscovery.annualcongress.com
SUMMARY:International Conference on Pharmaceutical Research and Drug 
  Discovery
END:VEVENT
END:VCALENDAR
