BEGIN:VCALENDAR
VERSION:2.0
PRODID:-//hacksw/handcal//NONSGML v1.0//EN
CALSCALE:GREGORIAN
BEGIN:VEVENT
UID:69e5fd1c93506
DTSTART:20220220T203000Z
DTSTAMP:20260420T101700Z
DTEND:20220221T203000Z
LOCATION:Berlin
DESCRIPTION:Nano Tenchnology Event
URL;VALUE=URI:https://novel-drugdelivery-systems.pharmaceuticalconfer
 rences.com/
SUMMARY:23rd International Conference and Exhibition on Pharmaceutics
 s & Novel Drug Delivery Systems
END:VEVENT
END:VCALENDAR
