BEGIN:VCALENDAR
VERSION:2.0
PRODID:-//hacksw/handcal//NONSGML v1.0//EN
CALSCALE:GREGORIAN
BEGIN:VEVENT
UID:69e5fd859f79b
DTSTART:20220126T203000Z
DTSTAMP:20260420T101845Z
DTEND:20220127T203000Z
LOCATION:Online
DESCRIPTION:Nano Tenchnology Event
URL;VALUE=URI:https://green-catalysis.conferenceseries.com/
SUMMARY:2nd International Conference on Green Chemistry and Catalysis
END:VEVENT
END:VCALENDAR
