BEGIN:VCALENDAR
VERSION:2.0
PRODID:-//hacksw/handcal//NONSGML v1.0//EN
CALSCALE:GREGORIAN
BEGIN:VEVENT
UID:69e5fd1cad898
DTSTART:20220220T203000Z
DTSTAMP:20260420T101700Z
DTEND:20220221T203000Z
LOCATION:Paris
DESCRIPTION:Nano Tenchnology Event
URL;VALUE=URI:https://plantscienceresearch.conferenceseries.com/
SUMMARY:11th International conference on Plant Genomics and Plant Sci
 ience
END:VEVENT
END:VCALENDAR
