BEGIN:VCALENDAR
VERSION:2.0
PRODID:-//hacksw/handcal//NONSGML v1.0//EN
CALSCALE:GREGORIAN
BEGIN:VEVENT
UID:69e5fd5ea12d7
DTSTART:20220220T203000Z
DTSTAMP:20260420T101806Z
DTEND:20220221T203000Z
LOCATION:Paris
DESCRIPTION:Nano Tenchnology Event
URL;VALUE=URI:https://plantscience-biology.agriconferences.com/
SUMMARY:2nd World Plant and Soil Science Congress
END:VEVENT
END:VCALENDAR
