BEGIN:VCALENDAR
VERSION:2.0
PRODID:-//hacksw/handcal//NONSGML v1.0//EN
CALSCALE:GREGORIAN
BEGIN:VEVENT
UID:69e5e94a116de
DTSTART:20220628T193000Z
DTSTAMP:20260420T085226Z
DTEND:20220629T193000Z
LOCATION:Vancouver
DESCRIPTION:Nano Tenchnology Event
URL;VALUE=URI:https://research.pharmaceuticalconferences.com/
SUMMARY:5th International Conference on Pharmaceutical Research & Inn
 novations in Pharma Industry
END:VEVENT
END:VCALENDAR
