BEGIN:VCALENDAR
VERSION:2.0
PRODID:-//hacksw/handcal//NONSGML v1.0//EN
CALSCALE:GREGORIAN
BEGIN:VEVENT
UID:69e5cf17a8496
DTSTART:20221023T203000Z
DTSTAMP:20260420T070039Z
DTEND:20221024T203000Z
LOCATION:Zurich
DESCRIPTION:Nano Tenchnology Event
URL;VALUE=URI:https://drugdeliverysummit.pharmaceuticalconferences.co
 om/
SUMMARY:39th International Conference on Drug Discovery and Drug deli
 ivery system
END:VEVENT
END:VCALENDAR
