BEGIN:VCALENDAR
VERSION:2.0
PRODID:-//hacksw/handcal//NONSGML v1.0//EN
CALSCALE:GREGORIAN
BEGIN:VEVENT
UID:69e5e992e83bd
DTSTART:20220403T193000Z
DTSTAMP:20260420T085338Z
DTEND:20220404T193000Z
LOCATION:Geneva
DESCRIPTION:Nano Tenchnology Event
URL;VALUE=URI:https://nanochemistry.conferenceseries.com/
SUMMARY:2nd International Conferences on Nanotechnology & Chemistry
END:VEVENT
END:VCALENDAR
