BEGIN:VCALENDAR
VERSION:2.0
PRODID:-//hacksw/handcal//NONSGML v1.0//EN
CALSCALE:GREGORIAN
BEGIN:VEVENT
UID:69e5e9d235d04
DTSTART:20220424T193000Z
DTSTAMP:20260420T085442Z
DTEND:20220425T193000Z
LOCATION:Rome
DESCRIPTION:Nano Tenchnology Event
URL;VALUE=URI:https://cardio.cardiologymeeting.com/
SUMMARY:8th World Congress on Cardiology and Cardiovascular Therapeut
 tics (WCCCT 2022)
END:VEVENT
END:VCALENDAR
