BEGIN:VCALENDAR
VERSION:2.0
PRODID:-//hacksw/handcal//NONSGML v1.0//EN
CALSCALE:GREGORIAN
BEGIN:VEVENT
UID:69e5e94a2ecd0
DTSTART:20220323T193000Z
DTSTAMP:20260420T085226Z
DTEND:20220324T193000Z
LOCATION:Singapore City
DESCRIPTION:Nano Tenchnology Event
URL;VALUE=URI:https://asiapacific.pharmaceuticalconferences.com/
SUMMARY:24th Asia Pacific Pharma Congress (Asia Pharma 2022)
END:VEVENT
END:VCALENDAR
